BEGIN:VCALENDAR
VERSION:2.0
PRODID:-//St. Martin&#039;s Episcopal Church - ECPv6.15.20//NONSGML v1.0//EN
CALSCALE:GREGORIAN
METHOD:PUBLISH
X-ORIGINAL-URL:https://smecmn.org
X-WR-CALDESC:Events for St. Martin&#039;s Episcopal Church
REFRESH-INTERVAL;VALUE=DURATION:PT1H
X-Robots-Tag:noindex
X-PUBLISHED-TTL:PT1H
BEGIN:VTIMEZONE
TZID:America/New_York
BEGIN:DAYLIGHT
TZOFFSETFROM:-0500
TZOFFSETTO:-0400
TZNAME:EDT
DTSTART:20240310T070000
END:DAYLIGHT
BEGIN:STANDARD
TZOFFSETFROM:-0400
TZOFFSETTO:-0500
TZNAME:EST
DTSTART:20241103T060000
END:STANDARD
BEGIN:DAYLIGHT
TZOFFSETFROM:-0500
TZOFFSETTO:-0400
TZNAME:EDT
DTSTART:20250309T070000
END:DAYLIGHT
BEGIN:STANDARD
TZOFFSETFROM:-0400
TZOFFSETTO:-0500
TZNAME:EST
DTSTART:20251102T060000
END:STANDARD
BEGIN:DAYLIGHT
TZOFFSETFROM:-0500
TZOFFSETTO:-0400
TZNAME:EDT
DTSTART:20260308T070000
END:DAYLIGHT
BEGIN:STANDARD
TZOFFSETFROM:-0400
TZOFFSETTO:-0500
TZNAME:EST
DTSTART:20261101T060000
END:STANDARD
END:VTIMEZONE
BEGIN:VEVENT
DTSTART;TZID=America/New_York:20250608T100000
DTEND;TZID=America/New_York:20250608T110000
DTSTAMP:20260422T044451
CREATED:20250603T151531Z
LAST-MODIFIED:20250603T151531Z
UID:389-1749376800-1749380400@smecmn.org
SUMMARY:Pentecost Sunday!  (Whitsunday) - June 8 - 10am
DESCRIPTION:Join us in celebrating the coming of the Holy Spirit! We have Holy Eucharist at 10am. All are welcome to receive the sacrament of Holy Communion at St. Martin’s. This is the Lord’s Table\, not ours! Peace and blessings!
URL:https://smecmn.org/event/pentecost-sunday-whitsunday-june-8-10am/
END:VEVENT
END:VCALENDAR